BEGIN:VCALENDAR
VERSION:2.0
PRODID:-//eventon.com NONSGML v1.0//EN
CALSCALE:GREGORIAN
METHOD:PUBLISH
BEGIN:VEVENT
UID:69ec96b07c8cd
DTSTAMP:20260425T102552Z
DTSTART:20260502T120000Z
DTEND:20260503T210000Z
LOCATION:Hubbard Park 999 W Main St\,  Meriden\,  CT 06451 USA
SUMMARY:Meriden Daffodil Festival 2025
DESCRIPTION:Help us celebrate 46 fantastic years! Check out these exciting 
 events that are happening before\,  and during 46th annual Daffodil Festiva
 l. Pre-Festival EventsTag Sale â€“ April 25th\,  2026 Events During the Fes
 tivalCraft FairLittle Miss DaffodiParade â€“ May 2nd\,  2026Daffodil Dash â
 €“. No parking is available at Hubbard Park during the[..]\nhttps://visitne
 whaven.com/events/meriden-daffodil-festival/
URL:https://visitnewhaven.com/events/meriden-daffodil-festival/
END:VEVENT
END:VCALENDAR