BEGIN:VCALENDAR
VERSION:2.0
PRODID:-//eventon.com NONSGML v1.0//EN
CALSCALE:GREGORIAN
METHOD:PUBLISH
BEGIN:VEVENT
UID:69e62d71942bc
DTSTAMP:20260420T134313Z
DTSTART:20260911T190000Z
DTEND:20260911T220000Z
LOCATION:Madison Historic Green 589 Boston Post Rd. Madison\,  CT\,  06443 USA
SUMMARY:Madison CT Farmers' Market 2026
DESCRIPTION:Established in 2007\,  the Madison Farmers&#8217; Market is on
 e of Connecticut&#8217;s premier markets. We are open every Friday afternoo
 n from May through Thanksgiving. Our beautiful and diverse market is centra
 lly located in Madison\,  CT\,  on the Historic Town Green. The farmers and
  vendors who make up this bustling market offer a[..]\nhttps://visitnewhave
 n.com/events/madison-ct-farmers-market/var/ri-19.l-L1
URL:https://visitnewhaven.com/events/madison-ct-farmers-market/var/ri-19.l-L1
END:VEVENT
END:VCALENDAR