BEGIN:VCALENDAR
VERSION:2.0
PRODID:-//eventon.com NONSGML v1.0//EN
CALSCALE:GREGORIAN
METHOD:PUBLISH
BEGIN:VEVENT
UID:69e8b49226437
DTSTAMP:20260422T114418Z
DTSTART:20260525T143000Z
DTEND:20260525T160000Z
LOCATION:West Haven Green 355 Main Street\,  West Haven
SUMMARY:West Haven Memorial Day Parade
DESCRIPTION:Location: Campbell Avenue\,  West Haven\,  CT (Route: Captain T
 homas Boulevard to Center Street) Event Description:Join the City of West H
 aven in honoring our veterans and fallen heroes at the annual Memorial Day 
 Parade. The 1.5-mile parade route travels along Campbell Avenue\,  from Cap
 tain Thomas Boulevard to Center Street. Community groups\, [..]\nhttps://vi
 sitnewhaven.com/events/west-haven-memorial-day-parade/
URL:https://visitnewhaven.com/events/west-haven-memorial-day-parade/
END:VEVENT
END:VCALENDAR