BEGIN:VCALENDAR
VERSION:2.0
PRODID:-//eventon.com NONSGML v1.0//EN
CALSCALE:GREGORIAN
METHOD:PUBLISH
BEGIN:VEVENT
UID:69e629f0f114b
DTSTAMP:20260420T132816Z
DTSTART:20240802T000000Z
DTEND:20240802T035000Z
LOCATION:College Street Music Hall 238 College St\,  New Haven\,  CT 06510
SUMMARY:Beres Hammond
DESCRIPTION:Don’t be deceived by Beres Hammond’s cool profile. The play
 ful smile\,  the unassuming demeanor\,  the beard and the cap and the spect
 acles might lull you into forgetting that you’re in the presence of an aw
 esome musical talent\,  Jamaica’s greatest practicing singer/songwriter. 
 Beres remains cool\,  though he knows that he’s one[..]\nhttps://visitnew
 haven.com/events/beres-hammond/
URL:https://visitnewhaven.com/events/beres-hammond/
END:VEVENT
END:VCALENDAR