BEGIN:VCALENDAR
VERSION:2.0
PRODID:-//eventon.com NONSGML v1.0//EN
CALSCALE:GREGORIAN
METHOD:PUBLISH
BEGIN:VEVENT
UID:69e5fba22feba
DTSTAMP:20260420T101042Z
DTSTART:20240710T230000Z
DTEND:20240711T035000Z
LOCATION:Space Ballroom 295 Treadwell St\,  Hamden\,  CT 06514
SUMMARY:Prince Daddy and and the Hyena
DESCRIPTION:Prince Daddy and and the Hyena\nhttps://visitnewhaven.com/event
 s/prince-daddy-and-and-the-hyena/
URL:https://visitnewhaven.com/events/prince-daddy-and-and-the-hyena/
END:VEVENT
END:VCALENDAR