BEGIN:VCALENDAR
VERSION:2.0
PRODID:-//eventon.com NONSGML v1.0//EN
CALSCALE:GREGORIAN
METHOD:PUBLISH
BEGIN:VEVENT
UID:69e4caafa7ed7
DTSTAMP:20260419T122935Z
DTSTART:20240908T220000Z
DTEND:20240909T000000Z
LOCATION:Lyman Orchards 32 Reeds Gap Road\,  Middlefield\,  CT 06455
SUMMARY:Low Strung: Yale's Rock-Cello Rebels at 1741 Pub & Grill
DESCRIPTION:Low Strung is a group of classically-trained musicians turned r
 ock-cello rebels from Yale University.&nbsp; Enjoy an exciting evening of l
 ive music under the tent at 1741 Pub &amp; Grill\,  with a cello concert pe
 rformance like you&#8217;ve never seen!&nbsp; The unique style of this 9-pe
 rson lively group of cello performers from[..]\nhttps://visitnewhaven.com/e
 vents/low-strung-yales-rock-cello-rebels-at-1741-pub-grill/
URL:https://visitnewhaven.com/events/low-strung-yales-rock-cello-rebels-at-1741-pub-grill/
END:VEVENT
END:VCALENDAR