BEGIN:VCALENDAR
VERSION:2.0
PRODID:-//eventon.com NONSGML v1.0//EN
CALSCALE:GREGORIAN
METHOD:PUBLISH
BEGIN:VEVENT
UID:69eb413f0e2b4
DTSTAMP:20260424T100903Z
DTSTART:20241108T220000Z
DTEND:20241109T010000Z
LOCATION:Paradise Hills Vineyard and Winery 15 Windswept Hill Road
SUMMARY:Live Music with Acoustic Mafia
DESCRIPTION:Come on over and join us at Paradise Hills Vineyard for some li
 ve music! We have indoor seating and outdoor seating. Feel free to bring yo
 ur own food. We kindly ask that you do not bring outside beverages\,  perso
 nal water bottles\,  etc. Cheers!\nhttps://visitnewhaven.com/events/live-mu
 sic-with-acoustic-mafia/
URL:https://visitnewhaven.com/events/live-music-with-acoustic-mafia/
END:VEVENT
END:VCALENDAR