BEGIN:VCALENDAR
VERSION:2.0
PRODID:-//eventon.com NONSGML v1.0//EN
CALSCALE:GREGORIAN
METHOD:PUBLISH
BEGIN:VEVENT
UID:69e8b4dec9aad
DTSTAMP:20260422T114534Z
DTSTART:20241130T180000Z
DTEND:20241221T200000Z
LOCATION:
SUMMARY:Storytelling & Selfies with Santa & Mrs. Claus
DESCRIPTION:Join Santa and Mrs. Claus at The Shops at Yale for an enchantin
 g afternoon filled with holiday cheer!&nbsp;&nbsp;&nbsp;&nbsp;&nbsp;&nbsp;&
 nbsp;&nbsp;Saturdays\,  November 30th &amp; December 7th\,  14th&nbsp;and 2
 1stTime: 1:00 &#8211; 3:00 PM Natural Kitchen (260 College Street) on Nov 3
 0th &amp; Dec 7thBarnes &amp; Noble/The Yale Bookstore (77 Broadway\,  lowe
 r level) on Dec[..]\nhttps://visitnewhaven.com/events/storytelling-selfies-
 with-santa-mrs-claus/
URL:https://visitnewhaven.com/events/storytelling-selfies-with-santa-mrs-claus/
END:VEVENT
END:VCALENDAR