BEGIN:VCALENDAR
VERSION:2.0
PRODID:-//eventon.com NONSGML v1.0//EN
CALSCALE:GREGORIAN
METHOD:PUBLISH
BEGIN:VEVENT
UID:69e63f9a410f2
DTSTAMP:20260420T150042Z
DTSTART:20241220T003000Z
DTEND:20241220T023000Z
LOCATION:Milford Arts Council 40 Railroad Ave. Milford\,  CT
SUMMARY:Pass the Guitar Benefit Show
DESCRIPTION:Pass the Guitar Benefit ShowThursday\,  December 19\,  2024&nbs
 p; &nbsp;7:30pm&nbsp;A Benefit Event for the Beth El Center of Milford Loca
 ls Only\,  Special Event\nhttps://visitnewhaven.com/events/pass-the-guitar-
 benefit-show/
URL:https://visitnewhaven.com/events/pass-the-guitar-benefit-show/
END:VEVENT
END:VCALENDAR