BEGIN:VCALENDAR
VERSION:2.0
PRODID:-//eventon.com NONSGML v1.0//EN
CALSCALE:GREGORIAN
METHOD:PUBLISH
BEGIN:VEVENT
UID:69e640da08396
DTSTAMP:20260420T150602Z
DTSTART:20250511T150000Z
DTEND:20250511T173000Z
LOCATION:Paradise Hills Vineyard and Winery 15 Windswept Hill Road
SUMMARY:Mothers Day Brunch at Paradise Hills Vineyard & Winery
DESCRIPTION:Treat mom to a morning full of delicious food\,  great wine\,  
 and even better company! This will be a beautiful morning spent in the vine
 yard with those who do so much for you! Mother&#8217;s Day Brunch:-Fresh as
 sorted breakfast breads: mini crossiants and scones-Assorted house jams and
  creamy butter-Fresh fruit platter-French[..]\nhttps://visitnewhaven.com/ev
 ents/mothers-day-brunch-at-paradise-hills-vineyard-winery/
URL:https://visitnewhaven.com/events/mothers-day-brunch-at-paradise-hills-vineyard-winery/
END:VEVENT
END:VCALENDAR