BEGIN:VCALENDAR
VERSION:2.0
PRODID:-//eventon.com NONSGML v1.0//EN
CALSCALE:GREGORIAN
METHOD:PUBLISH
BEGIN:VEVENT
UID:69e4cc41504cd
DTSTAMP:20260419T123617Z
DTSTART:20250703T220000Z
DTEND:20250704T000000Z
LOCATION:Fowler Field 1 Shipyard Ln\,  Milford\,  CT\,  06460 USA
SUMMARY:Fridays After Five - Special Thursday Event
DESCRIPTION:Fridays After Five concerts at Rotary Fowler Field Pavilion in 
 Milford (1 Shipyard Lane\,  behind the library). All concerts are from 6:00
  PM to 8:00 PM: Friday\,  May 23\,  2025 – The Kathy Thompson Band Friday
 \,  May 30\,  2025 – The School of Rock Friday\,  June 6\,  2025 – Shot
 [..]\nhttps://visitnewhaven.com/events/fridays-after-five-special-thursday-
 event-copy/
URL:https://visitnewhaven.com/events/fridays-after-five-special-thursday-event-copy/
END:VEVENT
END:VCALENDAR