BEGIN:VCALENDAR
VERSION:2.0
PRODID:-//eventon.com NONSGML v1.0//EN
CALSCALE:GREGORIAN
METHOD:PUBLISH
BEGIN:VEVENT
UID:69e8f3826f0b6
DTSTAMP:20260422T161250Z
DTSTART:20250516T220000Z
DTEND:20250517T035900Z
LOCATION:Branford Town Hall (Rear) 1016 Main St.\,  Branford\,  CT 06405 USA
SUMMARY:TGIF Concert Series – Free Live Music in Branford
DESCRIPTION:TGIF Concert Series – Free Live Music in BranfordFridays in M
 ay | 6:00 PMBehind Town Hall1019 Main Street\,  Branford\,  CT Start your w
 eekends with live music\,  local food trucks\,  and family-friendly fun! Th
 e Branford Parks and Recreation Department presents the TGIF Concert Series
  every Friday evening in May. Bring a[..]\nhttps://visitnewhaven.com/events
 /tgif-concert-series-free-live-music-in-branford/
URL:https://visitnewhaven.com/events/tgif-concert-series-free-live-music-in-branford/
END:VEVENT
END:VCALENDAR