BEGIN:VCALENDAR
VERSION:2.0
PRODID:-//eventon.com NONSGML v1.0//EN
CALSCALE:GREGORIAN
METHOD:PUBLISH
BEGIN:VEVENT
UID:69e9ffab3c70d
DTSTAMP:20260423T111659Z
DTSTART:20250831T180000Z
DTEND:20250831T210000Z
LOCATION:Paradise Hills Vineyard and Winery 15 Windswept Hill Road
SUMMARY:Live music with Bernie Gagliardi
DESCRIPTION:Come on over and join us at Paradise Hills Vineyard for some li
 ve music! We have indoor seating and outdoor seating. Feel free to bring yo
 ur own food. We kindly ask that you do not bring outside beverages\,  perso
 nal water bottles\,  etc. Cheers!\nhttps://visitnewhaven.com/events/live-mu
 sic-with-bernie-gagliardi-2/
URL:https://visitnewhaven.com/events/live-music-with-bernie-gagliardi-2/
END:VEVENT
END:VCALENDAR