BEGIN:VCALENDAR
VERSION:2.0
PRODID:-//eventon.com NONSGML v1.0//EN
CALSCALE:GREGORIAN
METHOD:PUBLISH
BEGIN:VEVENT
UID:69e8dcbdec810
DTSTAMP:20260422T143541Z
DTSTART:20251003T210000Z
DTEND:20251003T233000Z
LOCATION:Lyman Orchards 32 Reeds Gap Road\,  Middlefield\,  CT 06455
SUMMARY:Brew Maze at Lyman Orchards Corn Maze
DESCRIPTION:Attend a Beer Tasting like no other\,  three Friday nights this
  fall packed with local flavor\,  good brews\,  and a slice of Connecticut 
 culture! We&#8217;re hosting some of Connecticut&#8217;s most popular brewe
 rs! Taste six 4oz. beer samples during the Corn Maze Beer Tastings schedule
 d as follows: Friday Nights: September 19th[..]\nhttps://visitnewhaven.com/
 events/brew-maze-at-lyman-orchards-corn-maze/
URL:https://visitnewhaven.com/events/brew-maze-at-lyman-orchards-corn-maze/
END:VEVENT
END:VCALENDAR