BEGIN:VCALENDAR
VERSION:2.0
PRODID:-//eventon.com NONSGML v1.0//EN
CALSCALE:GREGORIAN
METHOD:PUBLISH
BEGIN:VEVENT
UID:69e62da3e11ea
DTSTAMP:20260420T134403Z
DTSTART:20251128T220000Z
DTEND:20251129T010000Z
LOCATION:Paradise Hills Vineyard and Winery 15 Windswept Hill Road
SUMMARY:Live Music with Nick Fradiani Sr
DESCRIPTION:Come on over and join us at Paradise Hills Vineyard for some li
 ve music! We have indoor seating and outdoor seating. Feel free to bring yo
 ur own food. We kindly ask that you do not bring outside beverages\,  perso
 nal water bottles\,  etc. Cheers!\nhttps://visitnewhaven.com/events/live-mu
 sic-with-nick-fradiani-sr-8/
URL:https://visitnewhaven.com/events/live-music-with-nick-fradiani-sr-8/
END:VEVENT
END:VCALENDAR