BEGIN:VCALENDAR
VERSION:2.0
PRODID:-//eventon.com NONSGML v1.0//EN
CALSCALE:GREGORIAN
METHOD:PUBLISH
BEGIN:VEVENT
UID:69e62c4bc0090
DTSTAMP:20260420T133819Z
DTSTART:20260821T140000Z
DTEND:20260821T210000Z
LOCATION:Yale Center for British Art 1080 Chapel St\,  New Haven\,  CT 06510\,  USA
SUMMARY:Exhibitions at the Yale Center for British Art
DESCRIPTION:Thursday\,  January 8\,  2026–Sunday\,  June 21\,  2026Painte
 rs\,  Ports\,  and Profits: Artists and the East India Company\,  1750-1850
 This exhibition tells the story of artists from India\,  Britain\,  and Chi
 na who worked in the era of one of the most powerful corporations in histor
 y. The British East India Company began in 1600[..]\nhttps://visitnewhaven.
 com/events/exhibitions-at-the-yale-center-for-british-art/var/ri-194.l-L1
URL:https://visitnewhaven.com/events/exhibitions-at-the-yale-center-for-british-art/var/ri-194.l-L1
END:VEVENT
END:VCALENDAR