BEGIN:VCALENDAR
VERSION:2.0
PRODID:-//eventon.com NONSGML v1.0//EN
CALSCALE:GREGORIAN
METHOD:PUBLISH
BEGIN:VEVENT
UID:69e79f389d4d6
DTSTAMP:20260421T160056Z
DTSTART:20251213T180000Z
DTEND:20251213T200000Z
LOCATION:The Shops at Yale Broadway-Chapel and Whitney-Audubon District\,  New Haven\,  CT 06511\,  United States
SUMMARY:CHAPEL STREET ICE CARVING
DESCRIPTION:Get ready for a magical experience as a professional ice carver
  transforms two massive 300-pound blocks of ice into stunning holiday-theme
 d masterpieces in the Chapel Street Historic District! ðŸ“… When: Saturdays
 \,  November 29\,  December 13 &amp; 20 â° Time: 1:00 PM &#8211; 3:00 PM ð
 Ÿ“ Where: In front of Ãœni-Home[..]\nhttps://visitnewhaven.com/events/chap
 el-street-ice-carving-3/
URL:https://visitnewhaven.com/events/chapel-street-ice-carving-3/
END:VEVENT
END:VCALENDAR