BEGIN:VCALENDAR
VERSION:2.0
PRODID:-//eventon.com NONSGML v1.0//EN
CALSCALE:GREGORIAN
METHOD:PUBLISH
BEGIN:VEVENT
UID:69e62d123a35e
DTSTAMP:20260420T134138Z
DTSTART:20260315T180000Z
DTEND:20260315T210000Z
LOCATION:Paradise Hills Vineyard and Winery 15 Windswept Hill Road
SUMMARY:Live Music with Tony Di & Brandt Taylor
DESCRIPTION:Come on over and join us at Paradise Hills Vineyard for some li
 ve music! We have indoor seating and outdoor seating. Feel free to bring yo
 ur own food. We kindly ask that you do not bring outside beverages\,  perso
 nal water bottles\,  etc. Cheers!\nhttps://visitnewhaven.com/events/live-mu
 sic-with-tony-di-brandt-taylor-3/
URL:https://visitnewhaven.com/events/live-music-with-tony-di-brandt-taylor-3/
END:VEVENT
END:VCALENDAR