BEGIN:VCALENDAR
VERSION:2.0
PRODID:-//eventon.com NONSGML v1.0//EN
CALSCALE:GREGORIAN
METHOD:PUBLISH
BEGIN:VEVENT
UID:69e9082083a28
DTSTAMP:20260422T174048Z
DTSTART:20260103
DTEND:20260104
LOCATION:
SUMMARY:CT Craft Beverage Trail -- Sip through Connecticut
DESCRIPTION:Introducing the CT Craft Beverage Trail Passport A brand-new wa
 y to explore local breweries\,  wineries\,  and distilleries across Connect
 icut. Visit all 6 locations\,  collect your stamps\,  and be entered to win
  over $3\, 000 in multiple prize packages. The passport runs January 3–Ma
 rch 29 and is open to guests 21 .[..]\nhttps://visitnewhaven.com/events/ct-
 craft-beverage-trail-sip-through-connecticut/
URL:https://visitnewhaven.com/events/ct-craft-beverage-trail-sip-through-connecticut/
END:VEVENT
END:VCALENDAR