BEGIN:VCALENDAR
VERSION:2.0
PRODID:-//eventon.com NONSGML v1.0//EN
CALSCALE:GREGORIAN
METHOD:PUBLISH
BEGIN:VEVENT
UID:69eb2d49a13bc
DTSTAMP:20260424T084353Z
DTSTART:20260305T003000Z
DTEND:20260305T020000Z
LOCATION:Morse Recital Hall in Sprague Memorial Hall 470 College Street\,  New Haven\,  CT 06511\,  USA
SUMMARY:3/4/26 Yale Jazz Ensembles Big Band  Celebrating the Centennial of Miles Davis -  “Miles Ahead”
DESCRIPTION:The&nbsp;Yale Jazz Ensembles Big Band\,  Wayne Escoffery\,  Mus
 ic Director\,  will present its spring concert&nbsp;on&nbsp;Wednesday\, &nb
 sp;March 4\,  2026\,  at 7:30 p.m.\,  in Morse Recital Hall in Sprague Memo
 rial Hall. Admission is&nbsp;free&nbsp;(no tickets or registration&nbsp;req
 uired).&nbsp;&nbsp; &nbsp; The&nbsp;YJE&nbsp;Big Band continues its celebra
 tion of&nbsp;the centennial&nbsp;of the birth&nbsp;of American jazz trumpet
 er\,  bandleader\,  and composer Miles Davis.&nbsp;Tonight’s&nbsp;concert
 &nbsp;will[..]\nhttps://visitnewhaven.com/events/3-4-26-yale-jazz-ensembles
 -big-band-celebrating-the-centennial-of-miles-davis-miles-ahead/
URL:https://visitnewhaven.com/events/3-4-26-yale-jazz-ensembles-big-band-celebrating-the-centennial-of-miles-davis-miles-ahead/
END:VEVENT
END:VCALENDAR