BEGIN:VCALENDAR
VERSION:2.0
PRODID:-//eventon.com NONSGML v1.0//EN
CALSCALE:GREGORIAN
METHOD:PUBLISH
BEGIN:VEVENT
UID:69eb2f756fdcb
DTSTAMP:20260424T085309Z
DTSTART:20260613
DTEND:20260614
LOCATION:The Shops at Yale Broadway-Chapel and Whitney-Audubon District\,  New Haven\,  CT 06511\,  United States
SUMMARY:The Shops at Yale Appetizer & Dessert Crawls 2026
DESCRIPTION:Join us on Saturdays\,  April 18\,  May 2\,  June 13 &amp; Dece
 mber 19 for the 7th Annual Appetizer &amp; Dessert Crawl\,  Downtown New Ha
 ven’s largest food crawl series\,  featuring tastings from top local rest
 aurants. Tickets Tickets are $25 each\,  plus processing fees. Ticket holde
 rs will receive exclusive two-day offers at[..]\nhttps://visitnewhaven.com/
 events/the-shops-at-yale-appetizer-dessert-crawls-2026/var/ri-3.l-L1
URL:https://visitnewhaven.com/events/the-shops-at-yale-appetizer-dessert-crawls-2026/var/ri-3.l-L1
END:VEVENT
END:VCALENDAR